BEGIN:VCALENDAR
PRODID:-//eluceo/ical//2.0/EN
VERSION:2.0
CALSCALE:GREGORIAN
BEGIN:VEVENT
UID:6860691a4445a11c1b43fe92ac68b8b6
DTSTAMP:20260425T122406Z
SUMMARY:Dinner
DESCRIPTION:Sitio web: https://www.hyatt.com/de-DE/hotel/switzerland/park-h
 yatt-zurich/zurph
URL:https://zuerich-city.rotary2000.ch/es/agenda/show/210866
DTSTART;TZID=Europe/Zurich:20270422T183000
DTEND;TZID=Europe/Zurich:20270422T213000
LOCATION:Park Hyatt Zürich Dinner\, Park Hyatt Zürich\, Beethovenstrasse 
 21\, 8002 Zürich\, Schweiz
CATEGORIES:Rotary
END:VEVENT
BEGIN:VTIMEZONE
TZID:Europe/Zurich
BEGIN:DAYLIGHT
DTSTART:20270422T183000
TZNAME:CEST
TZOFFSETTO:+0200
TZOFFSETFROM:+0200
END:DAYLIGHT
END:VTIMEZONE
END:VCALENDAR
