BEGIN:VCALENDAR
PRODID:-//eluceo/ical//2.0/EN
VERSION:2.0
CALSCALE:GREGORIAN
BEGIN:VEVENT
UID:b84cf99a9d02d4c149e510f139003936
DTSTAMP:20260420T152108Z
SUMMARY:Interner Austausch
DESCRIPTION:
URL:https://zuerich-city.rotary2000.ch/es/agenda/show/27759
DTSTART;TZID=Europe/Zurich:20121213T073000
DTEND;TZID=Europe/Zurich:20121213T073000
LOCATION:Hotel St. Gotthard
CATEGORIES:Rotary
END:VEVENT
BEGIN:VTIMEZONE
TZID:Europe/Zurich
BEGIN:STANDARD
DTSTART:20121213T073000
TZNAME:CET
TZOFFSETTO:+0100
TZOFFSETFROM:+0100
END:STANDARD
END:VTIMEZONE
END:VCALENDAR
