BEGIN:VCALENDAR
PRODID:-//eluceo/ical//2.0/EN
VERSION:2.0
CALSCALE:GREGORIAN
BEGIN:VEVENT
UID:faf87d1e9c3998c7513c29386cbb2d36
DTSTAMP:20260421T113948Z
SUMMARY:Lunch
DESCRIPTION:Webbplats: https://www.hyatt.com/de-DE/hotel/switzerland/park-h
 yatt-zurich/zurph
URL:https://zuerich-city.rotary2000.ch/sv/agenda/show/210825
DTSTART;TZID=Europe/Zurich:20260709T113000
DTEND;TZID=Europe/Zurich:20260709T133000
LOCATION:Park Hyatt Zürich Lunch\, Park Hyatt Zürich\, Beethovenstrasse 2
 1\, 8002 Zürich\, Schweiz
CATEGORIES:Rotary
END:VEVENT
BEGIN:VTIMEZONE
TZID:Europe/Zurich
BEGIN:DAYLIGHT
DTSTART:20260709T113000
TZNAME:CEST
TZOFFSETTO:+0200
TZOFFSETFROM:+0200
END:DAYLIGHT
END:VTIMEZONE
END:VCALENDAR
