BEGIN:VCALENDAR
PRODID:-//eluceo/ical//2.0/EN
VERSION:2.0
CALSCALE:GREGORIAN
BEGIN:VEVENT
UID:c1f6d55647db7d6bf6a8c32f3e6dfaa6
DTSTAMP:20260421T113930Z
SUMMARY:Lunch
DESCRIPTION:Webbplats: https://www.hyatt.com/de-DE/hotel/switzerland/park-h
 yatt-zurich/zurph
URL:https://zuerich-city.rotary2000.ch/sv/agenda/show/210826
DTSTART;TZID=Europe/Zurich:20260910T113000
DTEND;TZID=Europe/Zurich:20260910T133000
LOCATION:Park Hyatt Zürich Lunch\, Park Hyatt Zürich\, Beethovenstrasse 2
 1\, 8002 Zürich\, Schweiz
CATEGORIES:Rotary
END:VEVENT
BEGIN:VTIMEZONE
TZID:Europe/Zurich
BEGIN:DAYLIGHT
DTSTART:20260910T113000
TZNAME:CEST
TZOFFSETTO:+0200
TZOFFSETFROM:+0200
END:DAYLIGHT
END:VTIMEZONE
END:VCALENDAR
