BEGIN:VCALENDAR
PRODID:-//eluceo/ical//2.0/EN
VERSION:2.0
CALSCALE:GREGORIAN
BEGIN:VEVENT
UID:d4ebb996b21548aec714e6eec2048b8b
DTSTAMP:20260421T114916Z
SUMMARY:Dinner - Weihnachtsessen
DESCRIPTION:
URL:https://zuerich-city.rotary2000.ch/sv/agenda/show/210874
DTSTART;TZID=Europe/Zurich:20261203T183000
DTEND;TZID=Europe/Zurich:20261203T213000
LOCATION:offen
CATEGORIES:Rotary
END:VEVENT
BEGIN:VTIMEZONE
TZID:Europe/Zurich
BEGIN:STANDARD
DTSTART:20261203T183000
TZNAME:CET
TZOFFSETTO:+0100
TZOFFSETFROM:+0100
END:STANDARD
END:VTIMEZONE
END:VCALENDAR
